BEGIN:VCALENDAR
VERSION:2.0
PRODID:-//Gorgeous Getaway - ECPv6.15.14//NONSGML v1.0//EN
CALSCALE:GREGORIAN
METHOD:PUBLISH
X-ORIGINAL-URL:https://www.gorgeousgetaway.co.uk
X-WR-CALDESC:Events for Gorgeous Getaway
REFRESH-INTERVAL;VALUE=DURATION:PT1H
X-Robots-Tag:noindex
X-PUBLISHED-TTL:PT1H
BEGIN:VTIMEZONE
TZID:Europe/London
BEGIN:DAYLIGHT
TZOFFSETFROM:+0000
TZOFFSETTO:+0100
TZNAME:BST
DTSTART:20230326T010000
END:DAYLIGHT
BEGIN:STANDARD
TZOFFSETFROM:+0100
TZOFFSETTO:+0000
TZNAME:GMT
DTSTART:20231029T010000
END:STANDARD
BEGIN:DAYLIGHT
TZOFFSETFROM:+0000
TZOFFSETTO:+0100
TZNAME:BST
DTSTART:20240331T010000
END:DAYLIGHT
BEGIN:STANDARD
TZOFFSETFROM:+0100
TZOFFSETTO:+0000
TZNAME:GMT
DTSTART:20241027T010000
END:STANDARD
BEGIN:DAYLIGHT
TZOFFSETFROM:+0000
TZOFFSETTO:+0100
TZNAME:BST
DTSTART:20250330T010000
END:DAYLIGHT
BEGIN:STANDARD
TZOFFSETFROM:+0100
TZOFFSETTO:+0000
TZNAME:GMT
DTSTART:20251026T010000
END:STANDARD
END:VTIMEZONE
BEGIN:VEVENT
DTSTART;TZID=Europe/London:20240620T080000
DTEND;TZID=Europe/London:20240620T200000
DTSTAMP:20260423T143118
CREATED:20230623T120023Z
LAST-MODIFIED:20240323T100224Z
UID:102488-1718870400-1718913600@www.gorgeousgetaway.co.uk
SUMMARY:Royal Ascot 2024 - Sign up
DESCRIPTION:We’re very close to booking for Royal Ascot 2024! Sign up to access earlybird pricing when we go on sale!! \nVideo highlights from 2023
URL:https://www.gorgeousgetaway.co.uk/event/ascot2024-signup/
LOCATION:Royal Ascot\, High St\, Ascot\, SL5 7JX\, United Kingdom
ATTACH;FMTTYPE=image/jpeg:https://www.gorgeousgetaway.co.uk/wp-content/uploads/2023/02/clubvip-home-01.jpg
END:VEVENT
BEGIN:VEVENT
DTSTART;TZID=Europe/London:20240620T080000
DTEND;TZID=Europe/London:20240620T200000
DTSTAMP:20260423T143118
CREATED:20230829T232427Z
LAST-MODIFIED:20230908T143040Z
UID:103185-1718870400-1718913600@www.gorgeousgetaway.co.uk
SUMMARY:Royal Ascot Ladies Day 2024 [London]
DESCRIPTION:Gorgeous Getaway – London Coach\nThis booking is for one of the Gorgeous Getaway London Coaches. You’ll be allocated a specific coach closer to the time. \n\nCoaches register at V&A Museum\, South Kensington\, SW7 2RL\nAt checkout you can opt to pay in full\, or by deposit + two instalments.\n\nScroll down for further package and event information and coaches from other hosts / area’s. \n\nEvent Information
URL:https://www.gorgeousgetaway.co.uk/event/ascot2024-london/
LOCATION:Royal Ascot\, High St\, Ascot\, SL5 7JX\, United Kingdom
ATTACH;FMTTYPE=image/jpeg:https://www.gorgeousgetaway.co.uk/wp-content/uploads/2023/08/London-Front.jpg
END:VEVENT
BEGIN:VEVENT
DTSTART;TZID=Europe/London:20240620T080000
DTEND;TZID=Europe/London:20240620T200000
DTSTAMP:20260423T143118
CREATED:20230831T215556Z
LAST-MODIFIED:20240304T184347Z
UID:103585-1718870400-1718913600@www.gorgeousgetaway.co.uk
SUMMARY:Royal Ascot Ladies Day 2024 [Luton]
DESCRIPTION:Gorgeous Getaway – London Coach\nThis booking is for Luton & Bedford Coach departure. \n\nCoaches register at Club Lewsey\, Pastures Way\, Lewsey Park\nAt checkout you can opt to pay in full\, or by deposit + two instalments.\n\nScroll down for further package and event information and coaches from other hosts / area’s. \n\nEvent Information
URL:https://www.gorgeousgetaway.co.uk/event/ascot2024-luton/
LOCATION:Royal Ascot\, High St\, Ascot\, SL5 7JX\, United Kingdom
END:VEVENT
BEGIN:VEVENT
DTSTART;TZID=Europe/London:20240620T080000
DTEND;TZID=Europe/London:20240620T200000
DTSTAMP:20260423T143118
CREATED:20230901T121901Z
LAST-MODIFIED:20230908T142847Z
UID:103624-1718870400-1718913600@www.gorgeousgetaway.co.uk
SUMMARY:Royal Ascot Ladies Day 2024 [Birmingham]
DESCRIPTION:Gorgeous Getaway – Birmingham Coach\nThis booking is for one of the Gorgeous Getaway Birmingham Coaches. You’ll be allocated a specific coach closer to the time. \n  \nNote our partners NOIR will be selling their Birmingham coaches via their own ticket outlet. If you’d like to book with them then please contact them directly to book! \n\nCoaches register at Villa Park Stadium\nAt checkout you can opt to pay in full\, or by deposit + two instalments.\n\n\nEvent Information
URL:https://www.gorgeousgetaway.co.uk/event/ascot2024-birmingham/
LOCATION:Royal Ascot\, High St\, Ascot\, SL5 7JX\, United Kingdom
END:VEVENT
BEGIN:VEVENT
DTSTART;TZID=Europe/London:20240620T080000
DTEND;TZID=Europe/London:20240620T200000
DTSTAMP:20260423T143118
CREATED:20230908T081609Z
LAST-MODIFIED:20240430T120946Z
UID:103800-1718870400-1718913600@www.gorgeousgetaway.co.uk
SUMMARY:Royal Ascot Ladies Day 2024 [Reading]
DESCRIPTION:Gorgeous Getaway – Reading Coach\nThis booking is for the Gorgeous Getaway Reading Coach.  \n\nBreakfast from 10am at Hilton\, Reading\, Drake Way\, Reading RG2 0GQ. Coaches depart at 12.00pm\nAt checkout you can opt to pay in full\, or by deposit + two instalments.\n\nScroll down for further package and event information and coaches from other hosts / area’s. \nhttps://youtu.be/QNDlpuO1YCw		 \nEvent Information
URL:https://www.gorgeousgetaway.co.uk/event/ascot2024-reading/
LOCATION:Royal Ascot\, High St\, Ascot\, SL5 7JX\, United Kingdom
END:VEVENT
END:VCALENDAR