BEGIN:VCALENDAR
VERSION:2.0
PRODID:-//Gorgeous Getaway - ECPv6.15.14//NONSGML v1.0//EN
CALSCALE:GREGORIAN
METHOD:PUBLISH
X-ORIGINAL-URL:https://www.gorgeousgetaway.co.uk
X-WR-CALDESC:Events for Gorgeous Getaway
REFRESH-INTERVAL;VALUE=DURATION:PT1H
X-Robots-Tag:noindex
X-PUBLISHED-TTL:PT1H
BEGIN:VTIMEZONE
TZID:Europe/London
BEGIN:DAYLIGHT
TZOFFSETFROM:+0000
TZOFFSETTO:+0100
TZNAME:BST
DTSTART:20250330T010000
END:DAYLIGHT
BEGIN:STANDARD
TZOFFSETFROM:+0100
TZOFFSETTO:+0000
TZNAME:GMT
DTSTART:20251026T010000
END:STANDARD
BEGIN:DAYLIGHT
TZOFFSETFROM:+0000
TZOFFSETTO:+0100
TZNAME:BST
DTSTART:20260329T010000
END:DAYLIGHT
BEGIN:STANDARD
TZOFFSETFROM:+0100
TZOFFSETTO:+0000
TZNAME:GMT
DTSTART:20261025T010000
END:STANDARD
BEGIN:DAYLIGHT
TZOFFSETFROM:+0000
TZOFFSETTO:+0100
TZNAME:BST
DTSTART:20270328T010000
END:DAYLIGHT
BEGIN:STANDARD
TZOFFSETFROM:+0100
TZOFFSETTO:+0000
TZNAME:GMT
DTSTART:20271031T010000
END:STANDARD
END:VTIMEZONE
BEGIN:VEVENT
DTSTART;TZID=Europe/London:20260316T080000
DTEND;TZID=Europe/London:20260323T080000
DTSTAMP:20260422T235910
CREATED:20250227T153755Z
LAST-MODIFIED:20250711T104002Z
UID:115004-1773648000-1774252800@www.gorgeousgetaway.co.uk
SUMMARY:Gorgeous Getaway: Thailand 2026
DESCRIPTION:Phuket\, Thailand\n16th – 23rd March 2026\nPack your bags for seven incredible nights in Phuket\, where breathtaking beaches\, unforgettable parties\, and rich Thai culture come together for the ultimate escape.This is more than just a holiday – it’s an experience. Spend your days exploring the beauty of Thailand\, from island hopping in crystal-clear waters to discovering local traditions. Then\, as the sun sets\, get ready for exclusive themed parties\, a glamorous gala night\, and nonstop good vibes. \n\nAirport Transfers\n5 * Luxury Hotel\nThemed Parties\nExcursions\nDinner & Dance\nTransfers to all events\nMore tba!\n\nGet ready to make memories\, meet like-minded travelers\, and experience Phuket like never before!Deposit + Instalment packages available
URL:https://www.gorgeousgetaway.co.uk/event/thailand2026/
LOCATION:5* Hotel\, Details tba\, Thailand
ATTACH;FMTTYPE=image/jpeg:https://www.gorgeousgetaway.co.uk/wp-content/uploads/2025/02/bhudda-scaled.jpg
END:VEVENT
END:VCALENDAR