BEGIN:VCALENDAR
VERSION:2.0
PRODID:-//Gorgeous Getaway - ECPv6.15.14//NONSGML v1.0//EN
CALSCALE:GREGORIAN
METHOD:PUBLISH
X-WR-CALNAME:Gorgeous Getaway
X-ORIGINAL-URL:https://www.gorgeousgetaway.co.uk
X-WR-CALDESC:Events for Gorgeous Getaway
REFRESH-INTERVAL;VALUE=DURATION:PT1H
X-Robots-Tag:noindex
X-PUBLISHED-TTL:PT1H
BEGIN:VTIMEZONE
TZID:Europe/London
BEGIN:DAYLIGHT
TZOFFSETFROM:+0000
TZOFFSETTO:+0100
TZNAME:BST
DTSTART:20220327T010000
END:DAYLIGHT
BEGIN:STANDARD
TZOFFSETFROM:+0100
TZOFFSETTO:+0000
TZNAME:GMT
DTSTART:20221030T010000
END:STANDARD
BEGIN:DAYLIGHT
TZOFFSETFROM:+0000
TZOFFSETTO:+0100
TZNAME:BST
DTSTART:20230326T010000
END:DAYLIGHT
BEGIN:STANDARD
TZOFFSETFROM:+0100
TZOFFSETTO:+0000
TZNAME:GMT
DTSTART:20231029T010000
END:STANDARD
BEGIN:DAYLIGHT
TZOFFSETFROM:+0000
TZOFFSETTO:+0100
TZNAME:BST
DTSTART:20240331T010000
END:DAYLIGHT
BEGIN:STANDARD
TZOFFSETFROM:+0100
TZOFFSETTO:+0000
TZNAME:GMT
DTSTART:20241027T010000
END:STANDARD
END:VTIMEZONE
BEGIN:VEVENT
DTSTART;TZID=Europe/London:20230624T080000
DTEND;TZID=Europe/London:20230624T200000
DTSTAMP:20260424T130752
CREATED:20230303T161402Z
LAST-MODIFIED:20230401T145742Z
UID:96922-1687593600-1687636800@www.gorgeousgetaway.co.uk
SUMMARY:Royal Ascot 2023 Saturday 'The Finale'
DESCRIPTION:The Grand Finale – Ascot on the weekend!\nWe appreciate that many guests are unable to attend on Thursday\, so we’re happy to confirm we’ve extended our stay till Saturday – the Final day at Ascot! \nExpect the same dress code\, same great vibe and the added benefit of not worrying about work on Friday! \nCoach travel  Picnic area  Entry to Windsor or Queen Anne Enclosure  Marquee seating  Complimentary Drinks  After Party  \nNote\, seating in the Tent area is included in your ticket on Saturday
URL:https://www.gorgeousgetaway.co.uk/event/ascot2023-saturday/
LOCATION:Royal Ascot\, High St\, Ascot\, SL5 7JX\, United Kingdom
END:VEVENT
END:VCALENDAR